Workbook

Sheet Voorblad
B1: Gelicenseerd onder Creative Commons Naamsvermelding 4.0 Internationaal licentie (CC BY 4.0)
B2: v2.6 [mei 2022]
B4: Data Quality Maturity Assessment

Sheet Definities en Niveaus
B2: Definitie Belang van element | C2: Belang Niveau | E2: Definitie Data Quality Maturity niveaus van element | F2: Huidig Niveau | G2: Gewenst Niveau
B3: Belang van element is onbekend | E3: Onbekend
B4: Element heeft geheel geen belang | C4: 0 | E4: Er is nog geheel geen ontwikkeling | F4: 0 | G4: 0
B5: Element heeft zeer gering belang | C5: 1 | E5: INITIEEL Er begint bewustwording te ontstaan Oplossingen zijn lokaal Niet geborgd: ad hoc, onvoorspelbaar | F5: 1 | G5: 1
B6: Element heeft enigszins belang | C6: 2 | E6: HERHAALBAAR Reactief/probleemoplossend denken Weinig kennisdeling tussen afdelingen Geborgd in mensen | F6: 2 | G6: 2
B7: Element heeft belang | C7: 3 | E7: GEDEFINIEERD Preventief/probleemvoorkomend denken Samenwerking tussen afdelingen Geborgd in processen | F7: 3 | G7: 3
B8: Element heeft veel belang | C8: 4 | E8: AANTOONBAAR Meten en monitoren Samenwerking en feedback georganiseerd Geborgd in besturing | F8: 4 | G8: 4
B9: Element heeft uiterst veel belang | C9: 5 | E9: GEBORGD Effectief en continu verbeterend Borging over afdelingen heen Geborgd in cultuur: de organisatie ziet data als asset | F9: 5 | G9: 5

Sheet Assessment
B1: INPUT NIVEAU | E1: BEREKEND
A2: Data quality element | B2: Belang Niveau | C2: Huidig Niveau | D2: Gewenst Niveau | E2: Gewenst Niveau - Huidig Niveau | F2: Belang Niveau x Huidig Niveau | G2: Belang Niveau x Gewenst Niveau | H2: Opmerkingen / Toelichting
A3: Context | B3: 0 | C3: 0 | D3: 0 | E3: =D3-C3 -> 0 | F3: =IF(OR(ISBLANK(B3),ISBLANK(C3)),"",B3*C3) -> 0 | G3: =IF(OR(ISBLANK(B3),ISBLANK(D3)),"",B3*D3) -> 0
A4: Stakeholder | B4: 0 | C4: 0 | D4: 0 | E4: =D4-C4 -> 0 | F4: =IF(OR(ISBLANK(B4),ISBLANK(C4)),"",B4*C4) -> 0 | G4: =IF(OR(ISBLANK(B4),ISBLANK(D4)),"",B4*D4) -> 0
A5: Leadership | B5: 0 | C5: 0 | D5: 0 | E5: =D5-C5 -> 0 | F5: =IF(OR(ISBLANK(B5),ISBLANK(C5)),"",B5*C5) -> 0 | G5: =IF(OR(ISBLANK(B5),ISBLANK(D5)),"",B5*D5) -> 0
A6: Data quality policy | B6: 0 | C6: 0 | D6: 0 | E6: =D6-C6 -> 0 | F6: =IF(OR(ISBLANK(B6),ISBLANK(C6)),"",B6*C6) -> 0 | G6: =IF(OR(ISBLANK(B6),ISBLANK(D6)),"",B6*D6) -> 0
A7: Roles and responsibilities | B7: 0 | C7: 0 | D7: 0 | E7: =D7-C7 -> 0 | F7: =IF(OR(ISBLANK(B7),ISBLANK(C7)),"",B7*C7) -> 0 | G7: =IF(OR(ISBLANK(B7),ISBLANK(D7)),"",B7*D7) -> 0
A8: Data quality risk analysis | B8: 0 | C8: 0 | D8: 0 | E8: =D8-C8 -> 0 | F8: =IF(OR(ISBLANK(B8),ISBLANK(C8)),"",B8*C8) -> 0 | G8: =IF(OR(ISBLANK(B8),ISBLANK(D8)),"",B8*D8) -> 0
A9: Data quality objectives | B9: 0 | C9: 0 | D9: 0 | E9: =D9-C9 -> 0 | F9: =IF(OR(ISBLANK(B9),ISBLANK(C9)),"",B9*C9) -> 0 | G9: =IF(OR(ISBLANK(B9),ISBLANK(D9)),"",B9*D9) -> 0
A10: Competence of staff | B10: 0 | C10: 0 | D10: 0 | E10: =D10-C10 -> 0 | F10: =IF(OR(ISBLANK(B10),ISBLANK(C10)),"",B10*C10) -> 0 | G10: =IF(OR(ISBLANK(B10),ISBLANK(D10)),"",B10*D10) -> 0
A11: Awareness of data quality | B11: 0 | C11: 0 | D11: 0 | E11: =D11-C11 -> 0 | F11: =IF(OR(ISBLANK(B11),ISBLANK(C11)),"",B11*C11) -> 0 | G11: =IF(OR(ISBLANK(B11),ISBLANK(D11)),"",B11*D11) -> 0
A12: Data Quality communication | B12: 0 | C12: 0 | D12: 0 | E12: =D12-C12 -> 0 | F12: =IF(OR(ISBLANK(B12),ISBLANK(C12)),"",B12*C12) -> 0 | G12: =IF(OR(ISBLANK(B12),ISBLANK(D12)),"",B12*D12) -> 0
A13: Metadata | B13: 0 | C13: 0 | D13: 0 | E13: =D13-C13 -> 0 | F13: =IF(OR(ISBLANK(B13),ISBLANK(C13)),"",B13*C13) -> 0 | G13: =IF(OR(ISBLANK(B13),ISBLANK(D13)),"",B13*D13) -> 0
A14: Documented information | B14: 0 | C14: 0 | D14: 0 | E14: =D14-C14 -> 0 | F14: =IF(OR(ISBLANK(B14),ISBLANK(C14)),"",B14*C14) -> 0 | G14: =IF(OR(ISBLANK(B14),ISBLANK(D14)),"",B14*D14) -> 0
... A27: Data quality improvement action | B27: 0 | C27: 0 | D27: 0 | E27: =D27-C27 -> 0 | F27: =IF(OR(ISBLANK(B27),ISBLANK(C27)),"",B27*C27) -> 0 | G27: =IF(OR(ISBLANK(B27),ISBLANK(D27)),"",B27*D27) -> 0
A28: Compliance | B28: 0 | C28: 0 | D28: 0 | G28: =IF(OR(ISBLANK(B28),ISBLANK(D28)),"",B28*D28) -> 0
A29: Resources | B29: 0 | C29: 0 | D29: 0 | G29: =IF(OR(ISBLANK(B29),ISBLANK(D29)),"",B29*D29) -> 0
A30: Scope | B30: 0 | C30: 0 | D30: 0 | G30: =IF(OR(ISBLANK(B30),ISBLANK(D30)),"",B30*D30) -> 0

Sheet Resultaat
A2: Categorie | B2: Sub-categorie | C2: Data quality element | D2: Belang Niveau x (Gewenst Niveau - Huidig Niveau) | E2: Opmerking | H2: Gewogen Gemiddelde score Data Quality Maturity
A3: Tactical | B3: Processes | C3: Data quality improvement action | D3: =IF(OR(VLOOKUP(C3,Assessment!$A$3:$G$30,6,0)="",VLOOKUP(C3,Assessment!$A$3:$G$30,7,0)=""),"",VLOOKUP(C3,Assessment!$A$3:$G$30,7,0)-VLOOKUP(C3,Assessment!$A$3:$G$30,6,0)) -> 0 | E3: =IF(ISTEXT(D3)=TRUE,"Eén of meerdere niveaus zijn onbekend","") | G3: Huidig Niveau | H3: =IFERROR( SUM(Assessment!F3:F27)/(125-(5*COUNTBLANK(Assessment!F3:F27))), "Resultaat is onbepaald" ) -> 0
A4: Operational | B4: Data Quality Improvement | C4: Data quality issue | D4: =IF(OR(VLOOKUP(C4,Assessment!$A$3:$G$30,6,0)="",VLOOKUP(C4,Assessment!$A$3:$G$30,7,0)=""),"",VLOOKUP(C4,Assessment!$A$3:$G$30,7,0)-VLOOKUP(C4,Assessment!$A$3:$G$30,6,0)) -> 0 | E4: =IF(ISTEXT(D4)=TRUE,"Eén of meerdere niveaus zijn onbekend","") | G4: Gewenst Niveau | H4: =IFERROR( SUM(Assessment!G3:G27)/(125-(5*COUNTBLANK(Assessment!G3:G27))), "Resultaat is onbepaald" ) -> 0
A5: Tactical | B5: Analysis | C5: Data quality risk analysis | D5: =IF(OR(VLOOKUP(C5,Assessment!$A$3:$G$30,6,0)="",VLOOKUP(C5,Assessment!$A$3:$G$30,7,0)=""),"",VLOOKUP(C5,Assessment!$A$3:$G$30,7,0)-VLOOKUP(C5,Assessment!$A$3:$G$30,6,0)) -> 0 | E5: =IF(ISTEXT(D5)=TRUE,"Eén of meerdere niveaus zijn onbekend","") | G5: Gewenst Niveau minus Huidig Niveau | H5: =IFERROR( H4-H3, "Resultaat is onbepaald" ) -> 0
A6: Tactical | B6: Analysis | C6: Documented information | D6: =IF(OR(VLOOKUP(C6,Assessment!$A$3:$G$27,6,0)="",VLOOKUP(C6,Assessment!$A$3:$G$27,7,0)=""),"",VLOOKUP(C6,Assessment!$A$3:$G$27,7,0)-VLOOKUP(C6,Assessment!$A$3:$G$27,6,0)) -> 0 | E6: =IF(ISTEXT(D6)=TRUE,"Eén of meerdere niveaus zijn onbekend","")
A7: Tactical | B7: Stakeholders | C7: Data Quality communication | D7: =IF(OR(VLOOKUP(C7,Assessment!$A$3:$G$27,6,0)="",VLOOKUP(C7,Assessment!$A$3:$G$27,7,0)=""),"",VLOOKUP(C7,Assessment!$A$3:$G$27,7,0)-VLOOKUP(C7,Assessment!$A$3:$G$27,6,0)) -> 0 | E7: =IF(ISTEXT(D7)=TRUE,"Eén of meerdere niveaus zijn onbekend","")
A8: Strategic | C8: Data quality objectives | D8: =IF(OR(VLOOKUP(C8,Assessment!$A$3:$G$27,6,0)="",VLOOKUP(C8,Assessment!$A$3:$G$27,7,0)=""),"",VLOOKUP(C8,Assessment!$A$3:$G$27,7,0)-VLOOKUP(C8,Assessment!$A$3:$G$27,6,0)) -> 0 | E8: =IF(ISTEXT(D8)=TRUE,"Eén of meerdere niveaus zijn onbekend","")
A9: Operational | B9: Metadata | C9: Metadata | D9: =IF(OR(VLOOKUP(C9,Assessment!$A$3:$G$27,6,0)="",VLOOKUP(C9,Assessment!$A$3:$G$27,7,0)=""),"",VLOOKUP(C9,Assessment!$A$3:$G$27,7,0)-VLOOKUP(C9,Assessment!$A$3:$G$27,6,0)) -> 0 | E9: =IF(ISTEXT(D9)=TRUE,"Eén of meerdere niveaus zijn onbekend","")
A10: Tactical | B10: People | C10: Awareness of data quality | D10: =IF(OR(VLOOKUP(C10,Assessment!$A$3:$G$27,6,0)="",VLOOKUP(C10,Assessment!$A$3:$G$27,7,0)=""),"",VLOOKUP(C10,Assessment!$A$3:$G$27,7,0)-VLOOKUP(C10,Assessment!$A$3:$G$27,6,0)) -> 0 | E10: =IF(ISTEXT(D10)=TRUE,"Eén of meerdere niveaus zijn onbekend","")
A11: Operational | B11: Metadata | C11: Critical data element | D11: =IF(OR(VLOOKUP(C11,Assessment!$A$3:$G$27,6,0)="",VLOOKUP(C11,Assessment!$A$3:$G$27,7,0)=""),"",VLOOKUP(C11,Assessment!$A$3:$G$27,7,0)-VLOOKUP(C11,Assessment!$A$3:$G$27,6,0)) -> 0 | E11: =IF(ISTEXT(D11)=TRUE,"Eén of meerdere niveaus zijn onbekend","")
A12: Tactical | B12: People | C12: Competence of staff | D12: =IF(OR(VLOOKUP(C12,Assessment!$A$3:$G$27,6,0)="",VLOOKUP(C12,Assessment!$A$3:$G$27,7,0)=""),"",VLOOKUP(C12,Assessment!$A$3:$G$27,7,0)-VLOOKUP(C12,Assessment!$A$3:$G$27,6,0)) -> 0 | E12: =IF(ISTEXT(D12)=TRUE,"Eén of meerdere niveaus zijn onbekend","")
A13: Tactical | B13: Processes | C13: Data process | D13: =IF(OR(VLOOKUP(C13,Assessment!$A$3:$G$27,6,0)="",VLOOKUP(C13,Assessment!$A$3:$G$27,7,0)=""),"",VLOOKUP(C13,Assessment!$A$3:$G$27,7,0)-VLOOKUP(C13,Assessment!$A$3:$G$27,6,0)) -> 0 | E13: =IF(ISTEXT(D13)=TRUE,"Eén of meerdere niveaus zijn onbekend","")
A14: Operational | B14: Data Quality Improvement | C14: Data cleansing | D14: =IF(OR(VLOOKUP(C14,Assessment!$A$3:$G$27,6,0)="",VLOOKUP(C14,Assessment!$A$3:$G$27,7,0)=""),"",VLOOKUP(C14,Assessment!$A$3:$G$27,7,0)-VLOOKUP(C14,Assessment!$A$3:$G$27,6,0)) -> 0 | E14: =IF(ISTEXT(D14)=TRUE,"Eén of meerdere niveaus zijn onbekend","")
A15: Tactical | B15: Processes | C15: Data model | D15: =IF(OR(VLOOKUP(C15,Assessment!$A$3:$G$27,6,0)="",VLOOKUP(C15,Assessment!$A$3:$G$27,7,0)=""),"",VLOOKUP(C15,Assessment!$A$3:$G$27,7,0)-VLOOKUP(C15,Assessment!$A$3:$G$27,6,0)) -> 0 | E15: =IF(ISTEXT(D15)=TRUE,"Eén of meerdere niveaus zijn onbekend","")
A16: Operational | B16: Metadata | C16: Data lineage | D16: =IF(OR(VLOOKUP(C16,Assessment!$A$3:$G$27,6,0)="",VLOOKUP(C16,Assessment!$A$3:$G$27,7,0)=""),"",VLOOKUP(C16,Assessment!$A$3:$G$27,7,0)-VLOOKUP(C16,Assessment!$A$3:$G$27,6,0)) -> 0 | E16: =IF(ISTEXT(D16)=TRUE,"Eén of meerdere niveaus zijn onbekend","")
A17: Operational | B17: Data Quality Improvement | C17: Data quality analysis | D17: =IF(OR(VLOOKUP(C17,Assessment!$A$3:$G$27,6,0)="",VLOOKUP(C17,Assessment!$A$3:$G$27,7,0)=""),"",VLOOKUP(C17,Assessment!$A$3:$G$27,7,0)-VLOOKUP(C17,Assessment!$A$3:$G$27,6,0)) -> 0 | E17: =IF(ISTEXT(D17)=TRUE,"Eén of meerdere niveaus zijn onbekend","")
A18: Strategic | C18: Data quality policy | D18: =IF(OR(VLOOKUP(C18,Assessment!$A$3:$G$27,6,0)="",VLOOKUP(C18,Assessment!$A$3:$G$27,7,0)=""),"",VLOOKUP(C18,Assessment!$A$3:$G$27,7,0)-VLOOKUP(C18,Assessment!$A$3:$G$27,6,0)) -> 0 | E18: =IF(ISTEXT(D18)=TRUE,"Eén of meerdere niveaus zijn onbekend","")
A19: Operational | B19: Metadata | C19: Data quality rule | D19: =IF(OR(VLOOKUP(C19,Assessment!$A$3:$G$27,6,0)="",VLOOKUP(C19,Assessment!$A$3:$G$27,7,0)=""),"",VLOOKUP(C19,Assessment!$A$3:$G$27,7,0)-VLOOKUP(C19,Assessment!$A$3:$G$27,6,0)) -> 0 | E19: =IF(ISTEXT(D19)=TRUE,"Eén of meerdere niveaus zijn onbekend","")
A20: Tactical | B20: Stakeholders | C20: Data supplier | D20: =IF(OR(VLOOKUP(C20,Assessment!$A$3:$G$27,6,0)="",VLOOKUP(C20,Assessment!$A$3:$G$27,7,0)=""),"",VLOOKUP(C20,Assessment!$A$3:$G$27,7,0)-VLOOKUP(C20,Assessment!$A$3:$G$27,6,0)) -> 0 | E20: =IF(ISTEXT(D20)=TRUE,"Eén of meerdere niveaus zijn onbekend","")
A21: Strategic | C21: Internal audit | D21: =IF(OR(VLOOKUP(C21,Assessment!$A$3:$G$27,6,0)="",VLOOKUP(C21,Assessment!$A$3:$G$27,7,0)=""),"",VLOOKUP(C21,Assessment!$A$3:$G$27,7,0)-VLOOKUP(C21,Assessment!$A$3:$G$27,6,0)) -> 0 | E21: =IF(ISTEXT(D21)=TRUE,"Eén of meerdere niveaus zijn onbekend","")
A22: Tactical | B22: Analysis | C22: Context | D22: =IF(OR(VLOOKUP(C22,Assessment!$A$3:$G$27,6,0)="",VLOOKUP(C22,Assessment!$A$3:$G$27,7,0)=""),"",VLOOKUP(C22,Assessment!$A$3:$G$27,7,0)-VLOOKUP(C22,Assessment!$A$3:$G$27,6,0)) -> 0 | E22: =IF(ISTEXT(D22)=TRUE,"Eén of meerdere niveaus zijn onbekend","")
A23: Strategic | C23: Leadership | D23: =IF(OR(VLOOKUP(C23,Assessment!$A$3:$G$27,6,0)="",VLOOKUP(C23,Assessment!$A$3:$G$27,7,0)=""),"",VLOOKUP(C23,Assessment!$A$3:$G$27,7,0)-VLOOKUP(C23,Assessment!$A$3:$G$27,6,0)) -> 0 | E23: =IF(ISTEXT(D23)=TRUE,"Eén of meerdere niveaus zijn onbekend","")
A24: Operational | B24: Data Quality Improvement | C24: Data quality monitoring | D24: =IF(OR(VLOOKUP(C24,Assessment!$A$3:$G$27,6,0)="",VLOOKUP(C24,Assessment!$A$3:$G$27,7,0)=""),"",VLOOKUP(C24,Assessment!$A$3:$G$27,7,0)-VLOOKUP(C24,Assessment!$A$3:$G$27,6,0)) -> 0 | E24: =IF(ISTEXT(D24)=TRUE,"Eén of meerdere niveaus zijn onbekend","")
A25: Tactical | B25: People | C25: Roles and responsibilities | D25: =IF(OR(VLOOKUP(C25,Assessment!$A$3:$G$27,6,0)="",VLOOKUP(C25,Assessment!$A$3:$G$27,7,0)=""),"",VLOOKUP(C25,Assessment!$A$3:$G$27,7,0)-VLOOKUP(C25,Assessment!$A$3:$G$27,6,0)) -> 0 | E25: =IF(ISTEXT(D25)=TRUE,"Eén of meerdere niveaus zijn onbekend","")
A26: Tactical | B26: Stakeholders | C26: Stakeholder | D26: =IF(OR(VLOOKUP(C26,Assessment!$A$3:$G$27,6,0)="",VLOOKUP(C26,Assessment!$A$3:$G$27,7,0)=""),"",VLOOKUP(C26,Assessment!$A$3:$G$27,7,0)-VLOOKUP(C26,Assessment!$A$3:$G$27,6,0)) -> 0 | E26: =IF(ISTEXT(D26)=TRUE,"Eén of meerdere niveaus zijn onbekend","")
A27: Strategic | C27: Management review | D27: =IF(OR(VLOOKUP(C27,Assessment!$A$3:$G$27,6,0)="",VLOOKUP(C27,Assessment!$A$3:$G$27,7,0)=""),"",VLOOKUP(C27,Assessment!$A$3:$G$27,7,0)-VLOOKUP(C27,Assessment!$A$3:$G$27,6,0)) -> 0 | E27: =IF(ISTEXT(D27)=TRUE,"Eén of meerdere niveaus zijn onbekend","")
A28: Strategic | C28: Compliance | D28: =Assessment!B28 * (Assessment!D28 - Assessment!C28) -> 0 | E28: =IF(ISTEXT(D28)=TRUE,"Eén of meerdere niveaus zijn onbekend","")
A29: Operational | C29: Resources | D29: =Assessment!B29 * (Assessment!D29 - Assessment!C29) -> 0 | E29: =IF(ISTEXT(D29)=TRUE,"Eén of meerdere niveaus zijn onbekend","")
A30: Tactical | C30: Scope | D30: =Assessment!B30 * (Assessment!D30 - Assessment!C30) -> 0 | E30: =IF(ISTEXT(D30)=TRUE,"Eén of meerdere niveaus zijn onbekend","")

Sheet Scores
A2: Belang/Huidig/Gwenst
A4: 0
A5: 1
A6: 2
A7: 3
A8: 4
A9: 5
